BEGIN:VCALENDAR
VERSION:2.0
METHOD:PUBLISH
PRODID:-//Agenda.ad//NONSGML v1.0//EN
BEGIN:VEVENT
CLASS:PUBLIC
UID:23348d33de3e168a3683d8e32de61ee6@agenda.ad
DTSTAMP:20260422T003928Z
DTSTART:20191018T220000Z
DTEND:20191019T220000Z
SUMMARY:3r Concurs de m&uacute;sica d'autor LAFI
DESCRIPTION:\n\nMés informació\nhttps://www.agenda.ad/activitat/andorr
 a-la-vella/musica/3r-concurs-de-musica-d-autor-lafi \nM&eac
 ute;s informació, aquí.\n\nOrganitza\nLa Fada 
 Ignorant
LOCATION:La Fada Ignorant
SEQUENCE:0
TRANSP:OPAQUE
X-ALT-DESC;FMTTYPE=text/html:<!DOCTYPE HTML PUBLIC "-//W3C//DTD HTML 3.2//EN"><HTML><HEAD
 ><TITLE></TITLE></HEAD><BODY><FONT FACE="Arial" SIZE=2><br/>
 <br/><b>Més informació</b><br/><a href="https://www.agenda
 .ad/activitat/andorra-la-vella/musica/3r-concurs-de-musica-d
 -autor-lafi ">https://www.agenda.ad/activitat/andorra-la-ve
 lla/musica/3r-concurs-de-musica-d-autor-lafi </a><br/>M&eac
 ute;s informaci&oacute;, aqu&iacute;.<br/><br/><b>Organitza<
 /b><br/>La Fada Ignorant</FONT></BODY></HTML>
END:VEVENT
END:VCALENDAR